BEGIN:VCALENDAR
VERSION:2.0
PRODID:-//ASCC - ECPv6.15.18//NONSGML v1.0//EN
CALSCALE:GREGORIAN
METHOD:PUBLISH
X-ORIGINAL-URL:https://www.ascc.nl/wp
X-WR-CALDESC:Evenementen voor ASCC
REFRESH-INTERVAL;VALUE=DURATION:PT1H
X-Robots-Tag:noindex
X-PUBLISHED-TTL:PT1H
BEGIN:VTIMEZONE
TZID:Europe/Amsterdam
BEGIN:DAYLIGHT
TZOFFSETFROM:+0100
TZOFFSETTO:+0200
TZNAME:CEST
DTSTART:20240331T010000
END:DAYLIGHT
BEGIN:STANDARD
TZOFFSETFROM:+0200
TZOFFSETTO:+0100
TZNAME:CET
DTSTART:20241027T010000
END:STANDARD
BEGIN:DAYLIGHT
TZOFFSETFROM:+0100
TZOFFSETTO:+0200
TZNAME:CEST
DTSTART:20250330T010000
END:DAYLIGHT
BEGIN:STANDARD
TZOFFSETFROM:+0200
TZOFFSETTO:+0100
TZNAME:CET
DTSTART:20251026T010000
END:STANDARD
BEGIN:DAYLIGHT
TZOFFSETFROM:+0100
TZOFFSETTO:+0200
TZNAME:CEST
DTSTART:20260329T010000
END:DAYLIGHT
BEGIN:STANDARD
TZOFFSETFROM:+0200
TZOFFSETTO:+0100
TZNAME:CET
DTSTART:20261025T010000
END:STANDARD
END:VTIMEZONE
BEGIN:VEVENT
DTSTART;TZID=Europe/Amsterdam:20250402T130000
DTEND;TZID=Europe/Amsterdam:20250402T150000
DTSTAMP:20260421T002444
CREATED:20250219T165734Z
LAST-MODIFIED:20250219T165734Z
UID:15856-1743598800-1743606000@www.ascc.nl
SUMMARY:Inloop Uithoorn De Scheg
DESCRIPTION:Elke eerste woensdag van de maand houdt de ASCC inloopspreekuur in De Scheg in Uithoorn. Leden kunnen langskomen om te worden geholpen met hun vragen over computers\, smartphones en tablets. Ook mensen die nog geen lid zijn\, zijn welkom. Zij kunnen zich direct inschrijven als lid.
URL:https://www.ascc.nl/wp/event/inloop-uithoorn-de-scheg-11/
LOCATION:De Scheg\, Arthur van Schendellaan 100a\, Uithoorn\, NH\, 1422 LE
END:VEVENT
BEGIN:VEVENT
DTSTART;TZID=Europe/Amsterdam:20250404T093000
DTEND;TZID=Europe/Amsterdam:20250404T110000
DTSTAMP:20260421T002444
CREATED:20250219T165326Z
LAST-MODIFIED:20250219T165326Z
UID:15845-1743759000-1743764400@www.ascc.nl
SUMMARY:Inloop Amstelveen Westwijk
DESCRIPTION:De ASCC heeft iedere week een inloopspreekuur in Amstelveen Westwijk voor leden\, die dan langs kunnen komen om te worden geholpen met hun vragen over computers\, smartphones en tablets. Ook mensen die nog geen lid zijn\, zijn welkom. Zij kunnen zich direct inschrijven als lid.
URL:https://www.ascc.nl/wp/event/inloop-amstelveen-westwijk-44/
LOCATION:Wijkcentrum Westend\, Westwijkplein 3\, Amstelveen\, 1187 LS
END:VEVENT
BEGIN:VEVENT
DTSTART;TZID=Europe/Amsterdam:20250411T093000
DTEND;TZID=Europe/Amsterdam:20250411T110000
DTSTAMP:20260421T002444
CREATED:20250219T165422Z
LAST-MODIFIED:20250219T165454Z
UID:15847-1744363800-1744369200@www.ascc.nl
SUMMARY:Inloop Amstelveen Westwijk
DESCRIPTION:De ASCC heeft iedere week een inloopspreekuur in Amstelveen Westwijk voor leden\, die dan langs kunnen komen om te worden geholpen met hun vragen over computers\, smartphones en tablets. Ook mensen die nog geen lid zijn\, zijn welkom. Zij kunnen zich direct inschrijven als lid.
URL:https://www.ascc.nl/wp/event/inloop-amstelveen-westwijk-kopie-7/
LOCATION:Wijkcentrum Westend\, Westwijkplein 3\, Amstelveen\, 1187 LS
END:VEVENT
BEGIN:VEVENT
DTSTART;TZID=Europe/Amsterdam:20250416T140000
DTEND;TZID=Europe/Amsterdam:20250416T160000
DTSTAMP:20260421T002444
CREATED:20250219T165829Z
LAST-MODIFIED:20250219T165829Z
UID:15858-1744812000-1744819200@www.ascc.nl
SUMMARY:Clubmiddag Amstelveen Westwijk
DESCRIPTION:Iedere maand op de derde woensdag verzorgt de ASCC een clubmiddag voor de leden in het wijkcentrum Westend.\nHet programma vindt u op de clubmiddag pagina. \n  \n 
URL:https://www.ascc.nl/wp/event/clubmiddag-amstelveen-westwijk-12/
LOCATION:Wijkcentrum Westend\, Westwijkplein 3\, Amstelveen\, 1187 LS
END:VEVENT
BEGIN:VEVENT
DTSTART;TZID=Europe/Amsterdam:20250417T140000
DTEND;TZID=Europe/Amsterdam:20250417T160000
DTSTAMP:20260421T002444
CREATED:20250219T165648Z
LAST-MODIFIED:20250219T165648Z
UID:15854-1744898400-1744905600@www.ascc.nl
SUMMARY:Inloop Amstelveen Lindenlaan MOC
DESCRIPTION:De ASCC heeft elke 3e donderdag een  inloopmiddag  in Amstelveen Zuid\, bij het MOC (Maatschappelijk OntmoetingsCentrum) aan de Lindenlaan 75\,1185 LC Amstelveen 1185 LC Amstelveen.\nLeden kunnen ook daar langskomen om te worden geholpen met hun vragen over computers\, smartphones en tablets. Ook mensen die nog geen lid zijn\, zijn welkom. Zij kunnen zich direct inschrijven als lid.
URL:https://www.ascc.nl/wp/event/inloop-amstelveen-lindenlaan-moc-13/
LOCATION:MOC\, Lindenlaan 75\, Amstelveen\, 1185 LC
END:VEVENT
BEGIN:VEVENT
DTSTART;TZID=Europe/Amsterdam:20250425T093000
DTEND;TZID=Europe/Amsterdam:20250425T110000
DTSTAMP:20260421T002444
CREATED:20250219T165601Z
LAST-MODIFIED:20250219T165601Z
UID:15852-1745573400-1745578800@www.ascc.nl
SUMMARY:Inloop Amstelveen Westwijk
DESCRIPTION:De ASCC heeft iedere week een inloopspreekuur in Amstelveen Westwijk voor leden\, die dan langs kunnen komen om te worden geholpen met hun vragen over computers\, smartphones en tablets. Ook mensen die nog geen lid zijn\, zijn welkom. Zij kunnen zich direct inschrijven als lid.
URL:https://www.ascc.nl/wp/event/inloop-amstelveen-westwijk-46/
LOCATION:Wijkcentrum Westend\, Westwijkplein 3\, Amstelveen\, 1187 LS
END:VEVENT
END:VCALENDAR