BEGIN:VCALENDAR
VERSION:2.0
PRODID:-//ASCC - ECPv6.15.18//NONSGML v1.0//EN
CALSCALE:GREGORIAN
METHOD:PUBLISH
X-WR-CALNAME:ASCC
X-ORIGINAL-URL:https://www.ascc.nl/wp
X-WR-CALDESC:Evenementen voor ASCC
REFRESH-INTERVAL;VALUE=DURATION:PT1H
X-Robots-Tag:noindex
X-PUBLISHED-TTL:PT1H
BEGIN:VTIMEZONE
TZID:Europe/Amsterdam
BEGIN:DAYLIGHT
TZOFFSETFROM:+0100
TZOFFSETTO:+0200
TZNAME:CEST
DTSTART:20230326T010000
END:DAYLIGHT
BEGIN:STANDARD
TZOFFSETFROM:+0200
TZOFFSETTO:+0100
TZNAME:CET
DTSTART:20231029T010000
END:STANDARD
BEGIN:DAYLIGHT
TZOFFSETFROM:+0100
TZOFFSETTO:+0200
TZNAME:CEST
DTSTART:20240331T010000
END:DAYLIGHT
BEGIN:STANDARD
TZOFFSETFROM:+0200
TZOFFSETTO:+0100
TZNAME:CET
DTSTART:20241027T010000
END:STANDARD
BEGIN:DAYLIGHT
TZOFFSETFROM:+0100
TZOFFSETTO:+0200
TZNAME:CEST
DTSTART:20250330T010000
END:DAYLIGHT
BEGIN:STANDARD
TZOFFSETFROM:+0200
TZOFFSETTO:+0100
TZNAME:CET
DTSTART:20251026T010000
END:STANDARD
END:VTIMEZONE
BEGIN:VEVENT
DTSTART;TZID=Europe/Amsterdam:20241002T130000
DTEND;TZID=Europe/Amsterdam:20241002T150000
DTSTAMP:20260422T114840
CREATED:20240906T104958Z
LAST-MODIFIED:20240906T104958Z
UID:15036-1727874000-1727881200@www.ascc.nl
SUMMARY:Inloop Uithoorn De Scheg
DESCRIPTION:Elke eerste woensdag van de maand houdt de ASCC inloopspreekuur in De Scheg in Uithoorn. Leden kunnen langskomen om te worden geholpen met hun vragen over computers\, smartphones en tablets. Ook mensen die nog geen lid zijn\, zijn welkom. Zij kunnen zich direct inschrijven als lid.
URL:https://www.ascc.nl/wp/event/inloop-uithoorn-de-scheg-6/
LOCATION:De Scheg\, Arthur van Schendellaan 100a\, Uithoorn\, NH\, 1422 LE
END:VEVENT
BEGIN:VEVENT
DTSTART;TZID=Europe/Amsterdam:20241004T093000
DTEND;TZID=Europe/Amsterdam:20241004T110000
DTSTAMP:20260422T114840
CREATED:20240718T115559Z
LAST-MODIFIED:20240731T093430Z
UID:14738-1728034200-1728039600@www.ascc.nl
SUMMARY:Inloop Amstelveen Westwijk
DESCRIPTION:De ASCC houdt iedere week inloopspreekuur in Amstelveen Westwijk voor leden\, die dan langs kunnen komen om te worden geholpen met hun vragen over computers\, smartphones en tablets. Ook mensen die nog geen lid zijn\, zijn welkom. Zij kunnen zich direct inschrijven als lid.
URL:https://www.ascc.nl/wp/event/inloop-amstelveen-westwijk-22/
LOCATION:Wijkcentrum Westend\, Westwijkplein 3\, Amstelveen\, 1187 LS
END:VEVENT
BEGIN:VEVENT
DTSTART;TZID=Europe/Amsterdam:20241011T093000
DTEND;TZID=Europe/Amsterdam:20241011T110000
DTSTAMP:20260422T114840
CREATED:20240731T093303Z
LAST-MODIFIED:20240731T093348Z
UID:14829-1728639000-1728644400@www.ascc.nl
SUMMARY:Inloop Amstelveen Westwijk
DESCRIPTION:De ASCC heeft iedere week een inloopspreekuur in Amstelveen Westwijk voor leden\, die dan langs kunnen komen om te worden geholpen met hun vragen over computers\, smartphones en tablets. Ook mensen die nog geen lid zijn\, zijn welkom. Zij kunnen zich direct inschrijven als lid.
URL:https://www.ascc.nl/wp/event/inloop-amstelveen-westwijk-23/
LOCATION:Wijkcentrum Westend\, Westwijkplein 3\, Amstelveen\, 1187 LS
END:VEVENT
BEGIN:VEVENT
DTSTART;TZID=Europe/Amsterdam:20241016T140000
DTEND;TZID=Europe/Amsterdam:20241016T160000
DTSTAMP:20260422T114840
CREATED:20240906T105158Z
LAST-MODIFIED:20240906T105158Z
UID:15038-1729087200-1729094400@www.ascc.nl
SUMMARY:Clubmiddag Amstelveen Westwijk
DESCRIPTION:Iedere maand op de derde woensdag verzorgt de ASCC een clubmiddag voor de leden in het wijkcentrum Westend.\nHet programma vindt u op de clubmiddag pagina. \n  \n 
URL:https://www.ascc.nl/wp/event/clubmiddag-amstelveen-westwijk-3/
LOCATION:Wijkcentrum Westend\, Westwijkplein 3\, Amstelveen\, 1187 LS
END:VEVENT
BEGIN:VEVENT
DTSTART;TZID=Europe/Amsterdam:20241017T140000
DTEND;TZID=Europe/Amsterdam:20241017T160000
DTSTAMP:20260422T114840
CREATED:20240906T104754Z
LAST-MODIFIED:20240906T104754Z
UID:15034-1729173600-1729180800@www.ascc.nl
SUMMARY:Inloop Amstelveen Lindenlaan MOC
DESCRIPTION:De ASCC heeft elke 3e donderdag een  inloopmiddag  in Amstelveen Zuid\, bij het MOC (Maatschappelijk OntmoetingsCentrum) aan de Lindenlaan 75\,1185 LC Amstelveen 1185 LC Amstelveen.\nLeden kunnen ook daar langskomen om te worden geholpen met hun vragen over computers\, smartphones en tablets. Ook mensen die nog geen lid zijn\, zijn welkom. Zij kunnen zich direct inschrijven als lid.
URL:https://www.ascc.nl/wp/event/inloop-amstelveen-lindenlaan-moc-7/
LOCATION:MOC\, Lindenlaan 75\, Amstelveen\, 1185 LC
END:VEVENT
BEGIN:VEVENT
DTSTART;TZID=Europe/Amsterdam:20241018T093000
DTEND;TZID=Europe/Amsterdam:20241018T110000
DTSTAMP:20260422T114840
CREATED:20240731T093557Z
LAST-MODIFIED:20240731T093557Z
UID:14835-1729243800-1729249200@www.ascc.nl
SUMMARY:Inloop Amstelveen Westwijk
DESCRIPTION:De ASCC heeft iedere week een inloopspreekuur in Amstelveen Westwijk voor leden\, die dan langs kunnen komen om te worden geholpen met hun vragen over computers\, smartphones en tablets. Ook mensen die nog geen lid zijn\, zijn welkom. Zij kunnen zich direct inschrijven als lid.
URL:https://www.ascc.nl/wp/event/inloop-amstelveen-westwijk-24/
LOCATION:Wijkcentrum Westend\, Westwijkplein 3\, Amstelveen\, 1187 LS
END:VEVENT
BEGIN:VEVENT
DTSTART;TZID=Europe/Amsterdam:20241025T093000
DTEND;TZID=Europe/Amsterdam:20241025T110000
DTSTAMP:20260422T114840
CREATED:20240731T093628Z
LAST-MODIFIED:20240731T093628Z
UID:14837-1729848600-1729854000@www.ascc.nl
SUMMARY:Inloop Amstelveen Westwijk
DESCRIPTION:De ASCC heeft iedere week een inloopspreekuur in Amstelveen Westwijk voor leden\, die dan langs kunnen komen om te worden geholpen met hun vragen over computers\, smartphones en tablets. Ook mensen die nog geen lid zijn\, zijn welkom. Zij kunnen zich direct inschrijven als lid.
URL:https://www.ascc.nl/wp/event/inloop-amstelveen-westwijk-25/
LOCATION:Wijkcentrum Westend\, Westwijkplein 3\, Amstelveen\, 1187 LS
END:VEVENT
END:VCALENDAR