BEGIN:VCALENDAR
VERSION:2.0
PRODID:-//ASCC - ECPv6.15.18//NONSGML v1.0//EN
CALSCALE:GREGORIAN
METHOD:PUBLISH
X-WR-CALNAME:ASCC
X-ORIGINAL-URL:https://www.ascc.nl/wp
X-WR-CALDESC:Evenementen voor ASCC
REFRESH-INTERVAL;VALUE=DURATION:PT1H
X-Robots-Tag:noindex
X-PUBLISHED-TTL:PT1H
BEGIN:VTIMEZONE
TZID:Europe/Amsterdam
BEGIN:DAYLIGHT
TZOFFSETFROM:+0100
TZOFFSETTO:+0200
TZNAME:CEST
DTSTART:20240331T010000
END:DAYLIGHT
BEGIN:STANDARD
TZOFFSETFROM:+0200
TZOFFSETTO:+0100
TZNAME:CET
DTSTART:20241027T010000
END:STANDARD
BEGIN:DAYLIGHT
TZOFFSETFROM:+0100
TZOFFSETTO:+0200
TZNAME:CEST
DTSTART:20250330T010000
END:DAYLIGHT
BEGIN:STANDARD
TZOFFSETFROM:+0200
TZOFFSETTO:+0100
TZNAME:CET
DTSTART:20251026T010000
END:STANDARD
BEGIN:DAYLIGHT
TZOFFSETFROM:+0100
TZOFFSETTO:+0200
TZNAME:CEST
DTSTART:20260329T010000
END:DAYLIGHT
BEGIN:STANDARD
TZOFFSETFROM:+0200
TZOFFSETTO:+0100
TZNAME:CET
DTSTART:20261025T010000
END:STANDARD
END:VTIMEZONE
BEGIN:VEVENT
DTSTART;TZID=Europe/Amsterdam:20250806T130000
DTEND;TZID=Europe/Amsterdam:20250806T150000
DTSTAMP:20260421T072529
CREATED:20250427T103450Z
LAST-MODIFIED:20250427T103450Z
UID:16483-1754485200-1754492400@www.ascc.nl
SUMMARY:Inloop Uithoorn De Scheg
DESCRIPTION:Elke eerste woensdag van de maand houdt de ASCC inloopspreekuur in De Scheg in Uithoorn. Leden kunnen langskomen om te worden geholpen met hun vragen over computers\, smartphones en tablets. Ook mensen die nog geen lid zijn\, zijn welkom. Zij kunnen zich direct inschrijven als lid.
URL:https://www.ascc.nl/wp/event/inloop-uithoorn-de-scheg-15/
LOCATION:De Scheg\, Arthur van Schendellaan 100a\, Uithoorn\, NH\, 1422 LE
END:VEVENT
BEGIN:VEVENT
DTSTART;TZID=Europe/Amsterdam:20250821T140000
DTEND;TZID=Europe/Amsterdam:20250821T160000
DTSTAMP:20260421T072529
CREATED:20250427T102632Z
LAST-MODIFIED:20250427T102632Z
UID:16477-1755784800-1755792000@www.ascc.nl
SUMMARY:Inloop Amstelveen Lindenlaan MOC
DESCRIPTION:De ASCC heeft elke 3e donderdag een  inloopmiddag  in Amstelveen Zuid\, bij het MOC (Maatschappelijk OntmoetingsCentrum) aan de Lindenlaan 75\,1185 LC Amstelveen 1185 LC Amstelveen.\nLeden kunnen ook daar langskomen om te worden geholpen met hun vragen over computers\, smartphones en tablets. Ook mensen die nog geen lid zijn\, zijn welkom. Zij kunnen zich direct inschrijven als lid.
URL:https://www.ascc.nl/wp/event/inloop-amstelveen-lindenlaan-moc-16/
LOCATION:MOC\, Lindenlaan 75\, Amstelveen\, 1185 LC
END:VEVENT
BEGIN:VEVENT
DTSTART;TZID=Europe/Amsterdam:20250829T093000
DTEND;TZID=Europe/Amsterdam:20250829T110000
DTSTAMP:20260421T072529
CREATED:20250427T102407Z
LAST-MODIFIED:20250823T104523Z
UID:16470-1756459800-1756465200@www.ascc.nl
SUMMARY:Inloop Amstelveen Westwijk
DESCRIPTION:De ASCC heeft iedere week een inloopspreekuur in Amstelveen Westwijk voor leden\, die dan langs kunnen komen om te worden geholpen met hun vragen over computers\, smartphones en tablets. Ook mensen die nog geen lid zijn\, zijn welkom. Zij kunnen zich direct inschrijven als lid.
URL:https://www.ascc.nl/wp/event/inloop-amstelveen-westwijk-53/
LOCATION:Wijkcentrum Westend\, Westwijkplein 3\, Amstelveen\, 1187 LS
END:VEVENT
BEGIN:VEVENT
DTSTART;TZID=Europe/Amsterdam:20250903T130000
DTEND;TZID=Europe/Amsterdam:20250903T150000
DTSTAMP:20260421T072529
CREATED:20250722T072047Z
LAST-MODIFIED:20250722T072047Z
UID:16545-1756904400-1756911600@www.ascc.nl
SUMMARY:Inloop Uithoorn De Scheg
DESCRIPTION:Elke eerste woensdag van de maand houdt de ASCC inloopspreekuur in De Scheg in Uithoorn. Leden kunnen langskomen om te worden geholpen met hun vragen over computers\, smartphones en tablets. Ook mensen die nog geen lid zijn\, zijn welkom. Zij kunnen zich direct inschrijven als lid.
URL:https://www.ascc.nl/wp/event/inloop-uithoorn-de-scheg-16/
LOCATION:De Scheg\, Arthur van Schendellaan 100a\, Uithoorn\, NH\, 1422 LE
END:VEVENT
BEGIN:VEVENT
DTSTART;TZID=Europe/Amsterdam:20250905T093000
DTEND;TZID=Europe/Amsterdam:20250905T110000
DTSTAMP:20260421T072529
CREATED:20250722T071825Z
LAST-MODIFIED:20250722T071825Z
UID:16535-1757064600-1757070000@www.ascc.nl
SUMMARY:Inloop Amstelveen Westwijk
DESCRIPTION:De ASCC heeft iedere week een inloopspreekuur in Amstelveen Westwijk voor leden\, die dan langs kunnen komen om te worden geholpen met hun vragen over computers\, smartphones en tablets. Ook mensen die nog geen lid zijn\, zijn welkom. Zij kunnen zich direct inschrijven als lid.
URL:https://www.ascc.nl/wp/event/inloop-amstelveen-westwijk-51/
LOCATION:Wijkcentrum Westend\, Westwijkplein 3\, Amstelveen\, 1187 LS
END:VEVENT
BEGIN:VEVENT
DTSTART;TZID=Europe/Amsterdam:20250912T093000
DTEND;TZID=Europe/Amsterdam:20250912T110000
DTSTAMP:20260421T072529
CREATED:20250722T071851Z
LAST-MODIFIED:20250722T071851Z
UID:16537-1757669400-1757674800@www.ascc.nl
SUMMARY:Inloop Amstelveen Westwijk
DESCRIPTION:De ASCC heeft iedere week een inloopspreekuur in Amstelveen Westwijk voor leden\, die dan langs kunnen komen om te worden geholpen met hun vragen over computers\, smartphones en tablets. Ook mensen die nog geen lid zijn\, zijn welkom. Zij kunnen zich direct inschrijven als lid.
URL:https://www.ascc.nl/wp/event/inloop-amstelveen-westwijk-54/
LOCATION:Wijkcentrum Westend\, Westwijkplein 3\, Amstelveen\, 1187 LS
END:VEVENT
BEGIN:VEVENT
DTSTART;TZID=Europe/Amsterdam:20250917T140000
DTEND;TZID=Europe/Amsterdam:20250917T160000
DTSTAMP:20260421T072529
CREATED:20250826T064418Z
LAST-MODIFIED:20250826T064418Z
UID:16698-1758117600-1758124800@www.ascc.nl
SUMMARY:Clubmiddag Amstelveen Westwijk
DESCRIPTION:Iedere maand op de derde woensdag verzorgt de ASCC een clubmiddag voor de leden in het wijkcentrum Westend.\nHet programma vindt u op de clubmiddag pagina. \n  \n 
URL:https://www.ascc.nl/wp/event/clubmiddag-amstelveen-westwijk-14/
LOCATION:Wijkcentrum Westend\, Westwijkplein 3\, Amstelveen\, 1187 LS
END:VEVENT
BEGIN:VEVENT
DTSTART;TZID=Europe/Amsterdam:20250918T140000
DTEND;TZID=Europe/Amsterdam:20250918T160000
DTSTAMP:20260421T072529
CREATED:20250722T072018Z
LAST-MODIFIED:20250722T072018Z
UID:16543-1758204000-1758211200@www.ascc.nl
SUMMARY:Inloop Amstelveen Lindenlaan MOC
DESCRIPTION:De ASCC heeft elke 3e donderdag een  inloopmiddag  in Amstelveen Zuid\, bij het MOC (Maatschappelijk OntmoetingsCentrum) aan de Lindenlaan 75\,1185 LC Amstelveen 1185 LC Amstelveen.\nLeden kunnen ook daar langskomen om te worden geholpen met hun vragen over computers\, smartphones en tablets. Ook mensen die nog geen lid zijn\, zijn welkom. Zij kunnen zich direct inschrijven als lid.
URL:https://www.ascc.nl/wp/event/inloop-amstelveen-lindenlaan-moc-17/
LOCATION:MOC\, Lindenlaan 75\, Amstelveen\, 1185 LC
END:VEVENT
BEGIN:VEVENT
DTSTART;TZID=Europe/Amsterdam:20250919T093000
DTEND;TZID=Europe/Amsterdam:20250919T110000
DTSTAMP:20260421T072529
CREATED:20250722T071919Z
LAST-MODIFIED:20250722T071919Z
UID:16539-1758274200-1758279600@www.ascc.nl
SUMMARY:Inloop Amstelveen Westwijk
DESCRIPTION:De ASCC heeft iedere week een inloopspreekuur in Amstelveen Westwijk voor leden\, die dan langs kunnen komen om te worden geholpen met hun vragen over computers\, smartphones en tablets. Ook mensen die nog geen lid zijn\, zijn welkom. Zij kunnen zich direct inschrijven als lid.
URL:https://www.ascc.nl/wp/event/inloop-amstelveen-westwijk-55/
LOCATION:Wijkcentrum Westend\, Westwijkplein 3\, Amstelveen\, 1187 LS
END:VEVENT
BEGIN:VEVENT
DTSTART;TZID=Europe/Amsterdam:20250926T093000
DTEND;TZID=Europe/Amsterdam:20250926T110000
DTSTAMP:20260421T072529
CREATED:20250722T071946Z
LAST-MODIFIED:20250722T071946Z
UID:16541-1758879000-1758884400@www.ascc.nl
SUMMARY:Inloop Amstelveen Westwijk
DESCRIPTION:De ASCC heeft iedere week een inloopspreekuur in Amstelveen Westwijk voor leden\, die dan langs kunnen komen om te worden geholpen met hun vragen over computers\, smartphones en tablets. Ook mensen die nog geen lid zijn\, zijn welkom. Zij kunnen zich direct inschrijven als lid.
URL:https://www.ascc.nl/wp/event/inloop-amstelveen-westwijk-56/
LOCATION:Wijkcentrum Westend\, Westwijkplein 3\, Amstelveen\, 1187 LS
END:VEVENT
BEGIN:VEVENT
DTSTART;TZID=Europe/Amsterdam:20251001T130000
DTEND;TZID=Europe/Amsterdam:20251001T150000
DTSTAMP:20260421T072529
CREATED:20250826T064316Z
LAST-MODIFIED:20250826T064316Z
UID:16696-1759323600-1759330800@www.ascc.nl
SUMMARY:Inloop Uithoorn De Scheg
DESCRIPTION:Elke eerste woensdag van de maand houdt de ASCC inloopspreekuur in De Scheg in Uithoorn. Leden kunnen langskomen om te worden geholpen met hun vragen over computers\, smartphones en tablets. Ook mensen die nog geen lid zijn\, zijn welkom. Zij kunnen zich direct inschrijven als lid.
URL:https://www.ascc.nl/wp/event/inloop-uithoorn-de-scheg-17/
LOCATION:De Scheg\, Arthur van Schendellaan 100a\, Uithoorn\, NH\, 1422 LE
END:VEVENT
BEGIN:VEVENT
DTSTART;TZID=Europe/Amsterdam:20251003T093000
DTEND;TZID=Europe/Amsterdam:20251003T110000
DTSTAMP:20260421T072529
CREATED:20250826T063932Z
LAST-MODIFIED:20250826T063932Z
UID:16682-1759483800-1759489200@www.ascc.nl
SUMMARY:Inloop Amstelveen Westwijk
DESCRIPTION:De ASCC heeft iedere week een inloopspreekuur in Amstelveen Westwijk voor leden\, die dan langs kunnen komen om te worden geholpen met hun vragen over computers\, smartphones en tablets. Ook mensen die nog geen lid zijn\, zijn welkom. Zij kunnen zich direct inschrijven als lid.
URL:https://www.ascc.nl/wp/event/inloop-amstelveen-westwijk-57/
LOCATION:Wijkcentrum Westend\, Westwijkplein 3\, Amstelveen\, 1187 LS
END:VEVENT
BEGIN:VEVENT
DTSTART;TZID=Europe/Amsterdam:20251010T093000
DTEND;TZID=Europe/Amsterdam:20251010T110000
DTSTAMP:20260421T072529
CREATED:20250826T063959Z
LAST-MODIFIED:20250826T064015Z
UID:16684-1760088600-1760094000@www.ascc.nl
SUMMARY:Inloop Amstelveen Westwijk
DESCRIPTION:De ASCC heeft iedere week een inloopspreekuur in Amstelveen Westwijk voor leden\, die dan langs kunnen komen om te worden geholpen met hun vragen over computers\, smartphones en tablets. Ook mensen die nog geen lid zijn\, zijn welkom. Zij kunnen zich direct inschrijven als lid.
URL:https://www.ascc.nl/wp/event/inloop-amstelveen-westwijk-kopie-8/
LOCATION:Wijkcentrum Westend\, Westwijkplein 3\, Amstelveen\, 1187 LS
END:VEVENT
BEGIN:VEVENT
DTSTART;TZID=Europe/Amsterdam:20251015T140000
DTEND;TZID=Europe/Amsterdam:20251015T160000
DTSTAMP:20260421T072529
CREATED:20250826T064457Z
LAST-MODIFIED:20250826T064457Z
UID:16700-1760536800-1760544000@www.ascc.nl
SUMMARY:Clubmiddag Amstelveen Westwijk
DESCRIPTION:Iedere maand op de derde woensdag verzorgt de ASCC een clubmiddag voor de leden in het wijkcentrum Westend.\nHet programma vindt u op de clubmiddag pagina. \n  \n 
URL:https://www.ascc.nl/wp/event/clubmiddag-amstelveen-westwijk-15/
LOCATION:Wijkcentrum Westend\, Westwijkplein 3\, Amstelveen\, 1187 LS
END:VEVENT
BEGIN:VEVENT
DTSTART;TZID=Europe/Amsterdam:20251016T140000
DTEND;TZID=Europe/Amsterdam:20251016T160000
DTSTAMP:20260421T072529
CREATED:20250826T064232Z
LAST-MODIFIED:20250826T064232Z
UID:16694-1760623200-1760630400@www.ascc.nl
SUMMARY:Inloop Amstelveen Lindenlaan MOC
DESCRIPTION:De ASCC heeft elke 3e donderdag een  inloopmiddag  in Amstelveen Zuid\, bij het MOC (Maatschappelijk OntmoetingsCentrum) aan de Lindenlaan 75\,1185 LC Amstelveen 1185 LC Amstelveen.\nLeden kunnen ook daar langskomen om te worden geholpen met hun vragen over computers\, smartphones en tablets. Ook mensen die nog geen lid zijn\, zijn welkom. Zij kunnen zich direct inschrijven als lid.
URL:https://www.ascc.nl/wp/event/inloop-amstelveen-lindenlaan-moc-18/
LOCATION:MOC\, Lindenlaan 75\, Amstelveen\, 1185 LC
END:VEVENT
BEGIN:VEVENT
DTSTART;TZID=Europe/Amsterdam:20251017T093000
DTEND;TZID=Europe/Amsterdam:20251017T110000
DTSTAMP:20260421T072529
CREATED:20250826T064044Z
LAST-MODIFIED:20250826T064044Z
UID:16687-1760693400-1760698800@www.ascc.nl
SUMMARY:Inloop Amstelveen Westwijk
DESCRIPTION:De ASCC heeft iedere week een inloopspreekuur in Amstelveen Westwijk voor leden\, die dan langs kunnen komen om te worden geholpen met hun vragen over computers\, smartphones en tablets. Ook mensen die nog geen lid zijn\, zijn welkom. Zij kunnen zich direct inschrijven als lid.
URL:https://www.ascc.nl/wp/event/inloop-amstelveen-westwijk-58/
LOCATION:Wijkcentrum Westend\, Westwijkplein 3\, Amstelveen\, 1187 LS
END:VEVENT
BEGIN:VEVENT
DTSTART;TZID=Europe/Amsterdam:20251024T093000
DTEND;TZID=Europe/Amsterdam:20251024T110000
DTSTAMP:20260421T072529
CREATED:20250826T064117Z
LAST-MODIFIED:20250826T064117Z
UID:16689-1761298200-1761303600@www.ascc.nl
SUMMARY:Inloop Amstelveen Westwijk
DESCRIPTION:De ASCC heeft iedere week een inloopspreekuur in Amstelveen Westwijk voor leden\, die dan langs kunnen komen om te worden geholpen met hun vragen over computers\, smartphones en tablets. Ook mensen die nog geen lid zijn\, zijn welkom. Zij kunnen zich direct inschrijven als lid.
URL:https://www.ascc.nl/wp/event/inloop-amstelveen-westwijk-59/
LOCATION:Wijkcentrum Westend\, Westwijkplein 3\, Amstelveen\, 1187 LS
END:VEVENT
BEGIN:VEVENT
DTSTART;TZID=Europe/Amsterdam:20251031T093000
DTEND;TZID=Europe/Amsterdam:20251031T110000
DTSTAMP:20260421T072529
CREATED:20250826T064142Z
LAST-MODIFIED:20250826T064154Z
UID:16691-1761903000-1761908400@www.ascc.nl
SUMMARY:Inloop Amstelveen Westwijk
DESCRIPTION:De ASCC heeft iedere week een inloopspreekuur in Amstelveen Westwijk voor leden\, die dan langs kunnen komen om te worden geholpen met hun vragen over computers\, smartphones en tablets. Ook mensen die nog geen lid zijn\, zijn welkom. Zij kunnen zich direct inschrijven als lid.
URL:https://www.ascc.nl/wp/event/inloop-amstelveen-westwijk-kopie-9/
LOCATION:Wijkcentrum Westend\, Westwijkplein 3\, Amstelveen\, 1187 LS
END:VEVENT
BEGIN:VEVENT
DTSTART;TZID=Europe/Amsterdam:20251105T130000
DTEND;TZID=Europe/Amsterdam:20251105T150000
DTSTAMP:20260421T072529
CREATED:20251012T143943Z
LAST-MODIFIED:20251012T143943Z
UID:16974-1762347600-1762354800@www.ascc.nl
SUMMARY:Inloop Uithoorn De Scheg
DESCRIPTION:Elke eerste woensdag van de maand houdt de ASCC inloopspreekuur in De Scheg in Uithoorn. Leden kunnen langskomen om te worden geholpen met hun vragen over computers\, smartphones en tablets. Ook mensen die nog geen lid zijn\, zijn welkom. Zij kunnen zich direct inschrijven als lid.
URL:https://www.ascc.nl/wp/event/inloop-uithoorn-de-scheg-18/
LOCATION:De Scheg\, Arthur van Schendellaan 100a\, Uithoorn\, NH\, 1422 LE
END:VEVENT
BEGIN:VEVENT
DTSTART;TZID=Europe/Amsterdam:20251107T093000
DTEND;TZID=Europe/Amsterdam:20251107T110000
DTSTAMP:20260421T072529
CREATED:20251012T143058Z
LAST-MODIFIED:20251012T143058Z
UID:16951-1762507800-1762513200@www.ascc.nl
SUMMARY:Inloop Amstelveen Westwijk
DESCRIPTION:De ASCC heeft iedere week een inloopspreekuur in Amstelveen Westwijk voor leden\, die dan langs kunnen komen om te worden geholpen met hun vragen over computers\, smartphones en tablets. Ook mensen die nog geen lid zijn\, zijn welkom. Zij kunnen zich direct inschrijven als lid.
URL:https://www.ascc.nl/wp/event/inloop-amstelveen-westwijk-60/
LOCATION:Wijkcentrum Westend\, Westwijkplein 3\, Amstelveen\, 1187 LS
END:VEVENT
BEGIN:VEVENT
DTSTART;TZID=Europe/Amsterdam:20251114T093000
DTEND;TZID=Europe/Amsterdam:20251114T110000
DTSTAMP:20260421T072529
CREATED:20251012T143130Z
LAST-MODIFIED:20251012T143130Z
UID:16953-1763112600-1763118000@www.ascc.nl
SUMMARY:Inloop Amstelveen Westwijk
DESCRIPTION:De ASCC heeft iedere week een inloopspreekuur in Amstelveen Westwijk voor leden\, die dan langs kunnen komen om te worden geholpen met hun vragen over computers\, smartphones en tablets. Ook mensen die nog geen lid zijn\, zijn welkom. Zij kunnen zich direct inschrijven als lid.
URL:https://www.ascc.nl/wp/event/inloop-amstelveen-westwijk-61/
LOCATION:Wijkcentrum Westend\, Westwijkplein 3\, Amstelveen\, 1187 LS
END:VEVENT
BEGIN:VEVENT
DTSTART;TZID=Europe/Amsterdam:20251119T140000
DTEND;TZID=Europe/Amsterdam:20251119T160000
DTSTAMP:20260421T072529
CREATED:20251012T143825Z
LAST-MODIFIED:20251012T143825Z
UID:16970-1763560800-1763568000@www.ascc.nl
SUMMARY:Clubmiddag Amstelveen Westwijk
DESCRIPTION:Iedere maand op de derde woensdag verzorgt de ASCC een clubmiddag voor de leden in het wijkcentrum Westend.\nHet programma vindt u op de clubmiddag pagina. \n  \n 
URL:https://www.ascc.nl/wp/event/clubmiddag-amstelveen-westwijk-16/
LOCATION:Wijkcentrum Westend\, Westwijkplein 3\, Amstelveen\, 1187 LS
END:VEVENT
BEGIN:VEVENT
DTSTART;TZID=Europe/Amsterdam:20251120T140000
DTEND;TZID=Europe/Amsterdam:20251120T160000
DTSTAMP:20260421T072529
CREATED:20251012T143505Z
LAST-MODIFIED:20251017T220918Z
UID:16966-1763647200-1763654400@www.ascc.nl
SUMMARY:Inloop Amstelveen Lindenlaan BuurtkamerKKP
DESCRIPTION:De ASCC heeft elke 3e donderdag een inloopmiddag in Amstelveen Zuid\, bij het MOC (Maatschappelijk OntmoetingsCentrum) aan de Lindenlaan 75\,1185 LC Amstelveen.\nLeden kunnen ook daar langskomen om te worden geholpen met hun vragen over computers\, smartphones en tablets. Ook mensen die nog geen lid zijn\, zijn welkom. Zij kunnen zich direct inschrijven als lid.
URL:https://www.ascc.nl/wp/event/inloop-amstelveen-lindenlaan-moc-19/
LOCATION:MOC\, Lindenlaan 75\, Amstelveen\, 1185 LC
END:VEVENT
BEGIN:VEVENT
DTSTART;TZID=Europe/Amsterdam:20251121T093000
DTEND;TZID=Europe/Amsterdam:20251121T110000
DTSTAMP:20260421T072529
CREATED:20251012T143200Z
LAST-MODIFIED:20251012T143200Z
UID:16955-1763717400-1763722800@www.ascc.nl
SUMMARY:Inloop Amstelveen Westwijk
DESCRIPTION:De ASCC heeft iedere week een inloopspreekuur in Amstelveen Westwijk voor leden\, die dan langs kunnen komen om te worden geholpen met hun vragen over computers\, smartphones en tablets. Ook mensen die nog geen lid zijn\, zijn welkom. Zij kunnen zich direct inschrijven als lid.
URL:https://www.ascc.nl/wp/event/inloop-amstelveen-westwijk-62/
LOCATION:Wijkcentrum Westend\, Westwijkplein 3\, Amstelveen\, 1187 LS
END:VEVENT
BEGIN:VEVENT
DTSTART;TZID=Europe/Amsterdam:20251128T093000
DTEND;TZID=Europe/Amsterdam:20251128T110000
DTSTAMP:20260421T072529
CREATED:20251012T143239Z
LAST-MODIFIED:20251012T143239Z
UID:16957-1764322200-1764327600@www.ascc.nl
SUMMARY:Inloop Amstelveen Westwijk
DESCRIPTION:De ASCC heeft iedere week een inloopspreekuur in Amstelveen Westwijk voor leden\, die dan langs kunnen komen om te worden geholpen met hun vragen over computers\, smartphones en tablets. Ook mensen die nog geen lid zijn\, zijn welkom. Zij kunnen zich direct inschrijven als lid.
URL:https://www.ascc.nl/wp/event/inloop-amstelveen-westwijk-63/
LOCATION:Wijkcentrum Westend\, Westwijkplein 3\, Amstelveen\, 1187 LS
END:VEVENT
BEGIN:VEVENT
DTSTART;TZID=Europe/Amsterdam:20251203T130000
DTEND;TZID=Europe/Amsterdam:20251203T150000
DTSTAMP:20260421T072529
CREATED:20251012T144050Z
LAST-MODIFIED:20251017T221157Z
UID:16977-1764766800-1764774000@www.ascc.nl
SUMMARY:Inloop Uithoorn De Scheg
DESCRIPTION:Elke eerste woensdag van de maand houdt de ASCC inloopspreekuur in De Scheg in Uithoorn. Leden kunnen langskomen om te worden geholpen met hun vragen over computers\, smartphones en tablets. Ook mensen die nog geen lid zijn\, zijn welkom. Zij kunnen zich direct inschrijven als lid.
URL:https://www.ascc.nl/wp/event/inloop-uithoorn-de-scheg-19/
LOCATION:De Scheg\, Arthur van Schendellaan 100a\, Uithoorn\, NH\, 1422 LE
END:VEVENT
BEGIN:VEVENT
DTSTART;TZID=Europe/Amsterdam:20251205T093000
DTEND;TZID=Europe/Amsterdam:20251205T110000
DTSTAMP:20260421T072529
CREATED:20251012T143318Z
LAST-MODIFIED:20251012T143318Z
UID:16960-1764927000-1764932400@www.ascc.nl
SUMMARY:Inloop Amstelveen Westwijk
DESCRIPTION:De ASCC heeft iedere week een inloopspreekuur in Amstelveen Westwijk voor leden\, die dan langs kunnen komen om te worden geholpen met hun vragen over computers\, smartphones en tablets. Ook mensen die nog geen lid zijn\, zijn welkom. Zij kunnen zich direct inschrijven als lid.
URL:https://www.ascc.nl/wp/event/inloop-amstelveen-westwijk-64/
LOCATION:Wijkcentrum Westend\, Westwijkplein 3\, Amstelveen\, 1187 LS
END:VEVENT
BEGIN:VEVENT
DTSTART;TZID=Europe/Amsterdam:20251212T093000
DTEND;TZID=Europe/Amsterdam:20251212T110000
DTSTAMP:20260421T072529
CREATED:20251012T143356Z
LAST-MODIFIED:20251012T143356Z
UID:16962-1765531800-1765537200@www.ascc.nl
SUMMARY:Inloop Amstelveen Westwijk
DESCRIPTION:De ASCC heeft iedere week een inloopspreekuur in Amstelveen Westwijk voor leden\, die dan langs kunnen komen om te worden geholpen met hun vragen over computers\, smartphones en tablets. Ook mensen die nog geen lid zijn\, zijn welkom. Zij kunnen zich direct inschrijven als lid.
URL:https://www.ascc.nl/wp/event/inloop-amstelveen-westwijk-65/
LOCATION:Wijkcentrum Westend\, Westwijkplein 3\, Amstelveen\, 1187 LS
END:VEVENT
BEGIN:VEVENT
DTSTART;TZID=Europe/Amsterdam:20251217T140000
DTEND;TZID=Europe/Amsterdam:20251217T160000
DTSTAMP:20260421T072529
CREATED:20251012T143903Z
LAST-MODIFIED:20251012T143903Z
UID:16972-1765980000-1765987200@www.ascc.nl
SUMMARY:Clubmiddag Amstelveen Westwijk
DESCRIPTION:Iedere maand op de derde woensdag verzorgt de ASCC een clubmiddag voor de leden in het wijkcentrum Westend.\nHet programma vindt u op de clubmiddag pagina. \n  \n 
URL:https://www.ascc.nl/wp/event/clubmiddag-amstelveen-westwijk-17/
LOCATION:Wijkcentrum Westend\, Westwijkplein 3\, Amstelveen\, 1187 LS
END:VEVENT
BEGIN:VEVENT
DTSTART;TZID=Europe/Amsterdam:20251218T140000
DTEND;TZID=Europe/Amsterdam:20251218T160000
DTSTAMP:20260421T072529
CREATED:20251012T143703Z
LAST-MODIFIED:20251017T215827Z
UID:16968-1766066400-1766073600@www.ascc.nl
SUMMARY:Inloop Amstelveen Lindenlaan BuurtkamerKKP
DESCRIPTION:De ASCC heeft elke 3e donderdag een inloopmiddag in Amstelveen Zuid\, bij het MOC (Maatschappelijk Ontmoetings Centrum) aan de Lindenlaan 75\,1185 LC Amstelveen.\nLeden kunnen ook daar langskomen om te worden geholpen met hun vragen over computers\, smartphones en tablets. Ook mensen die nog geen lid zijn\, zijn welkom. Zij kunnen zich direct inschrijven als lid.
URL:https://www.ascc.nl/wp/event/inloop-amstelveen-lindenlaan-moc-20/
LOCATION:MOC\, Lindenlaan 75\, Amstelveen\, 1185 LC
END:VEVENT
END:VCALENDAR