BEGIN:VCALENDAR
VERSION:2.0
PRODID:-//ASCC - ECPv6.15.18//NONSGML v1.0//EN
CALSCALE:GREGORIAN
METHOD:PUBLISH
X-WR-CALNAME:ASCC
X-ORIGINAL-URL:https://www.ascc.nl/wp
X-WR-CALDESC:Evenementen voor ASCC
REFRESH-INTERVAL;VALUE=DURATION:PT1H
X-Robots-Tag:noindex
X-PUBLISHED-TTL:PT1H
BEGIN:VTIMEZONE
TZID:Europe/Amsterdam
BEGIN:DAYLIGHT
TZOFFSETFROM:+0100
TZOFFSETTO:+0200
TZNAME:CEST
DTSTART:20250330T010000
END:DAYLIGHT
BEGIN:STANDARD
TZOFFSETFROM:+0200
TZOFFSETTO:+0100
TZNAME:CET
DTSTART:20251026T010000
END:STANDARD
BEGIN:DAYLIGHT
TZOFFSETFROM:+0100
TZOFFSETTO:+0200
TZNAME:CEST
DTSTART:20260329T010000
END:DAYLIGHT
BEGIN:STANDARD
TZOFFSETFROM:+0200
TZOFFSETTO:+0100
TZNAME:CET
DTSTART:20261025T010000
END:STANDARD
BEGIN:DAYLIGHT
TZOFFSETFROM:+0100
TZOFFSETTO:+0200
TZNAME:CEST
DTSTART:20270328T010000
END:DAYLIGHT
BEGIN:STANDARD
TZOFFSETFROM:+0200
TZOFFSETTO:+0100
TZNAME:CET
DTSTART:20271031T010000
END:STANDARD
END:VTIMEZONE
BEGIN:VEVENT
DTSTART;TZID=Europe/Amsterdam:20260401T130000
DTEND;TZID=Europe/Amsterdam:20260401T150000
DTSTAMP:20260421T043603
CREATED:20260308T230048Z
LAST-MODIFIED:20260308T230048Z
UID:18240-1775048400-1775055600@www.ascc.nl
SUMMARY:Inloop Uithoorn De Scheg
DESCRIPTION:Elke eerste woensdag van de maand houdt de ASCC inloopspreekuur in De Scheg in Uithoorn. Leden kunnen langskomen om te worden geholpen met hun vragen over computers\, smartphones en tablets. Ook mensen die nog geen lid zijn\, zijn welkom. Zij kunnen zich direct inschrijven als lid.
URL:https://www.ascc.nl/wp/event/inloop-uithoorn-de-scheg-23/
LOCATION:De Scheg\, Arthur van Schendellaan 100a\, Uithoorn\, NH\, 1422 LE
END:VEVENT
BEGIN:VEVENT
DTSTART;TZID=Europe/Amsterdam:20260403T093000
DTEND;TZID=Europe/Amsterdam:20260403T110000
DTSTAMP:20260421T043603
CREATED:20260225T183544Z
LAST-MODIFIED:20260225T183544Z
UID:18154-1775208600-1775214000@www.ascc.nl
SUMMARY:GEEN inloop Amstelveen Westwijk op 3 april
DESCRIPTION:Op 3 April is het Goede Vrijdag en hebben we geen inloop in WestEnd omdat het wijkcentrum dicht is.
URL:https://www.ascc.nl/wp/event/geen-inloop-amstelveen-westwijk-op-3-april/
LOCATION:Wijkcentrum Westend\, Westwijkplein 3\, Amstelveen\, 1187 LS
END:VEVENT
BEGIN:VEVENT
DTSTART;TZID=Europe/Amsterdam:20260409T140000
DTEND;TZID=Europe/Amsterdam:20260409T160000
DTSTAMP:20260421T043603
CREATED:20260308T230133Z
LAST-MODIFIED:20260308T230133Z
UID:18242-1775743200-1775750400@www.ascc.nl
SUMMARY:Inloop Amstelveen Lindenlaan BuurtkamerKKP
DESCRIPTION:De ASCC heeft elke 2e donderdag een inloopmiddag in Amstelveen Zuid\, bij het MOC (Maatschappelijk Ontmoetings Centrum)\, Buurtkamer KKP\, aan de Lindenlaan 75\,1185 LC Amstelveen.\nLeden kunnen ook daar langskomen om te worden geholpen met hun vragen over computers\, smartphones en tablets. Ook mensen die nog geen lid zijn\, zijn welkom. Zij kunnen zich direct inschrijven als lid.
URL:https://www.ascc.nl/wp/event/inloop-amstelveen-lindenlaan-buurtkamerkkp-4/
LOCATION:MOC\, Lindenlaan 75\, Amstelveen\, 1185 LC
END:VEVENT
BEGIN:VEVENT
DTSTART;TZID=Europe/Amsterdam:20260410T093000
DTEND;TZID=Europe/Amsterdam:20260410T110000
DTSTAMP:20260421T043603
CREATED:20260308T225845Z
LAST-MODIFIED:20260308T225845Z
UID:18234-1775813400-1775818800@www.ascc.nl
SUMMARY:Inloop Amstelveen Westwijk
DESCRIPTION:De ASCC heeft iedere week een inloopspreekuur in Amstelveen Westwijk voor leden\, die dan langs kunnen komen om te worden geholpen met hun vragen over computers\, smartphones en tablets. Ook mensen die nog geen lid zijn\, zijn welkom. Zij kunnen zich direct inschrijven als lid.
URL:https://www.ascc.nl/wp/event/inloop-amstelveen-westwijk-79/
LOCATION:Wijkcentrum Westend\, Westwijkplein 3\, Amstelveen\, 1187 LS
END:VEVENT
BEGIN:VEVENT
DTSTART;TZID=Europe/Amsterdam:20260415T140000
DTEND;TZID=Europe/Amsterdam:20260415T160000
DTSTAMP:20260421T043603
CREATED:20260308T230312Z
LAST-MODIFIED:20260308T230331Z
UID:18244-1776261600-1776268800@www.ascc.nl
SUMMARY:Clubmiddag Amstelveen Westwijk
DESCRIPTION:Iedere maand op de derde woensdag verzorgt de ASCC een clubmiddag voor de leden in het wijkcentrum Westend.\nHet programma vindt u op de clubmiddag pagina. \n  \n 
URL:https://www.ascc.nl/wp/event/clubmiddag-amstelveen-westwijk-let-op-een-week-later/
LOCATION:Wijkcentrum Westend\, Westwijkplein 3\, Amstelveen\, 1187 LS
END:VEVENT
BEGIN:VEVENT
DTSTART;TZID=Europe/Amsterdam:20260417T093000
DTEND;TZID=Europe/Amsterdam:20260417T110000
DTSTAMP:20260421T043603
CREATED:20260308T225914Z
LAST-MODIFIED:20260308T225914Z
UID:18236-1776418200-1776423600@www.ascc.nl
SUMMARY:Inloop Amstelveen Westwijk
DESCRIPTION:De ASCC heeft iedere week een inloopspreekuur in Amstelveen Westwijk voor leden\, die dan langs kunnen komen om te worden geholpen met hun vragen over computers\, smartphones en tablets. Ook mensen die nog geen lid zijn\, zijn welkom. Zij kunnen zich direct inschrijven als lid.
URL:https://www.ascc.nl/wp/event/inloop-amstelveen-westwijk-80/
LOCATION:Wijkcentrum Westend\, Westwijkplein 3\, Amstelveen\, 1187 LS
END:VEVENT
BEGIN:VEVENT
DTSTART;TZID=Europe/Amsterdam:20260424T093000
DTEND;TZID=Europe/Amsterdam:20260424T110000
DTSTAMP:20260421T043603
CREATED:20260308T225950Z
LAST-MODIFIED:20260308T225950Z
UID:18238-1777023000-1777028400@www.ascc.nl
SUMMARY:Inloop Amstelveen Westwijk
DESCRIPTION:De ASCC heeft iedere week een inloopspreekuur in Amstelveen Westwijk voor leden\, die dan langs kunnen komen om te worden geholpen met hun vragen over computers\, smartphones en tablets. Ook mensen die nog geen lid zijn\, zijn welkom. Zij kunnen zich direct inschrijven als lid.
URL:https://www.ascc.nl/wp/event/inloop-amstelveen-westwijk-81/
LOCATION:Wijkcentrum Westend\, Westwijkplein 3\, Amstelveen\, 1187 LS
END:VEVENT
BEGIN:VEVENT
DTSTART;TZID=Europe/Amsterdam:20260501T093000
DTEND;TZID=Europe/Amsterdam:20260501T110000
DTSTAMP:20260421T043603
CREATED:20260406T075004Z
LAST-MODIFIED:20260406T075004Z
UID:18384-1777627800-1777633200@www.ascc.nl
SUMMARY:Inloop Amstelveen Westwijk
DESCRIPTION:De ASCC heeft iedere week een inloopspreekuur in Amstelveen Westwijk voor leden\, die dan langs kunnen komen om te worden geholpen met hun vragen over computers\, smartphones en tablets. Ook mensen die nog geen lid zijn\, zijn welkom. Zij kunnen zich direct inschrijven als lid.
URL:https://www.ascc.nl/wp/event/inloop-amstelveen-westwijk-82/
LOCATION:Wijkcentrum Westend\, Westwijkplein 3\, Amstelveen\, 1187 LS
END:VEVENT
BEGIN:VEVENT
DTSTART;TZID=Europe/Amsterdam:20260506T130000
DTEND;TZID=Europe/Amsterdam:20260506T150000
DTSTAMP:20260421T043603
CREATED:20260406T075347Z
LAST-MODIFIED:20260406T075347Z
UID:18396-1778072400-1778079600@www.ascc.nl
SUMMARY:Inloop Uithoorn De Scheg
DESCRIPTION:Elke eerste woensdag van de maand houdt de ASCC inloopspreekuur in De Scheg in Uithoorn. Leden kunnen langskomen om te worden geholpen met hun vragen over computers\, smartphones en tablets. Ook mensen die nog geen lid zijn\, zijn welkom. Zij kunnen zich direct inschrijven als lid.
URL:https://www.ascc.nl/wp/event/inloop-uithoorn-de-scheg-24/
LOCATION:De Scheg\, Arthur van Schendellaan 100a\, Uithoorn\, NH\, 1422 LE
END:VEVENT
BEGIN:VEVENT
DTSTART;TZID=Europe/Amsterdam:20260508T093000
DTEND;TZID=Europe/Amsterdam:20260508T110000
DTSTAMP:20260421T043603
CREATED:20260406T075042Z
LAST-MODIFIED:20260406T075042Z
UID:18386-1778232600-1778238000@www.ascc.nl
SUMMARY:Inloop Amstelveen Westwijk
DESCRIPTION:De ASCC heeft iedere week een inloopspreekuur in Amstelveen Westwijk voor leden\, die dan langs kunnen komen om te worden geholpen met hun vragen over computers\, smartphones en tablets. Ook mensen die nog geen lid zijn\, zijn welkom. Zij kunnen zich direct inschrijven als lid.
URL:https://www.ascc.nl/wp/event/inloop-amstelveen-westwijk-83/
LOCATION:Wijkcentrum Westend\, Westwijkplein 3\, Amstelveen\, 1187 LS
END:VEVENT
BEGIN:VEVENT
DTSTART;TZID=Europe/Amsterdam:20260520T140000
DTEND;TZID=Europe/Amsterdam:20260520T160000
DTSTAMP:20260421T043603
CREATED:20260406T075224Z
LAST-MODIFIED:20260413T151937Z
UID:18392-1779285600-1779292800@www.ascc.nl
SUMMARY:Clubmiddag Amstelveen Westwijk
DESCRIPTION:Iedere maand op de derde woensdag verzorgt de ASCC een clubmiddag voor de leden in het wijkcentrum Westend.\nHet programma vindt u op de clubmiddag pagina. \n  \n 
URL:https://www.ascc.nl/wp/event/clubmiddag-amstelveen-westwijk-19/
LOCATION:Wijkcentrum Westend\, Westwijkplein 3\, Amstelveen\, 1187 LS
END:VEVENT
BEGIN:VEVENT
DTSTART;TZID=Europe/Amsterdam:20260522T093000
DTEND;TZID=Europe/Amsterdam:20260522T110000
DTSTAMP:20260421T043603
CREATED:20260406T075110Z
LAST-MODIFIED:20260406T075118Z
UID:18388-1779442200-1779447600@www.ascc.nl
SUMMARY:Inloop Amstelveen Westwijk
DESCRIPTION:De ASCC heeft iedere week een inloopspreekuur in Amstelveen Westwijk voor leden\, die dan langs kunnen komen om te worden geholpen met hun vragen over computers\, smartphones en tablets. Ook mensen die nog geen lid zijn\, zijn welkom. Zij kunnen zich direct inschrijven als lid.
URL:https://www.ascc.nl/wp/event/inloop-amstelveen-westwijk-84/
LOCATION:Wijkcentrum Westend\, Westwijkplein 3\, Amstelveen\, 1187 LS
END:VEVENT
BEGIN:VEVENT
DTSTART;TZID=Europe/Amsterdam:20260529T093000
DTEND;TZID=Europe/Amsterdam:20260529T110000
DTSTAMP:20260421T043603
CREATED:20260406T075148Z
LAST-MODIFIED:20260406T075148Z
UID:18390-1780047000-1780052400@www.ascc.nl
SUMMARY:Inloop Amstelveen Westwijk
DESCRIPTION:De ASCC heeft iedere week een inloopspreekuur in Amstelveen Westwijk voor leden\, die dan langs kunnen komen om te worden geholpen met hun vragen over computers\, smartphones en tablets. Ook mensen die nog geen lid zijn\, zijn welkom. Zij kunnen zich direct inschrijven als lid.
URL:https://www.ascc.nl/wp/event/inloop-amstelveen-westwijk-85/
LOCATION:Wijkcentrum Westend\, Westwijkplein 3\, Amstelveen\, 1187 LS
END:VEVENT
BEGIN:VEVENT
DTSTART;TZID=Europe/Amsterdam:20260611T140000
DTEND;TZID=Europe/Amsterdam:20260611T160000
DTSTAMP:20260421T043603
CREATED:20260417T153115Z
LAST-MODIFIED:20260417T153115Z
UID:18476-1781186400-1781193600@www.ascc.nl
SUMMARY:Inloop Amstelveen Lindenlaan BuurtkamerKKP
DESCRIPTION:De ASCC heeft elke 2e donderdag een inloopmiddag in Amstelveen Zuid\, bij het MOC (Maatschappelijk Ontmoetings Centrum)\, Buurtkamer KKP\, aan de Lindenlaan 75\,1185 LC Amstelveen.\nLeden kunnen ook daar langskomen om te worden geholpen met hun vragen over computers\, smartphones en tablets. Ook mensen die nog geen lid zijn\, zijn welkom. Zij kunnen zich direct inschrijven als lid.
URL:https://www.ascc.nl/wp/event/inloop-amstelveen-lindenlaan-buurtkamerkkp-5/
LOCATION:MOC\, Lindenlaan 75\, Amstelveen\, 1185 LC
END:VEVENT
BEGIN:VEVENT
DTSTART;TZID=Europe/Amsterdam:20260626T093000
DTEND;TZID=Europe/Amsterdam:20260626T110000
DTSTAMP:20260421T043603
CREATED:20260417T152754Z
LAST-MODIFIED:20260417T152754Z
UID:18467-1782466200-1782471600@www.ascc.nl
SUMMARY:Inloop Amstelveen Westwijk
DESCRIPTION:De ASCC heeft iedere week een inloopspreekuur in Amstelveen Westwijk voor leden\, die dan langs kunnen komen om te worden geholpen met hun vragen over computers\, smartphones en tablets. Ook mensen die nog geen lid zijn\, zijn welkom. Zij kunnen zich direct inschrijven als lid.
URL:https://www.ascc.nl/wp/event/inloop-amstelveen-westwijk-86/
LOCATION:Wijkcentrum Westend\, Westwijkplein 3\, Amstelveen\, 1187 LS
END:VEVENT
BEGIN:VEVENT
DTSTART;TZID=Europe/Amsterdam:20260709T140000
DTEND;TZID=Europe/Amsterdam:20260709T160000
DTSTAMP:20260421T043603
CREATED:20260417T153150Z
LAST-MODIFIED:20260417T153150Z
UID:18478-1783605600-1783612800@www.ascc.nl
SUMMARY:Inloop Amstelveen Lindenlaan BuurtkamerKKP
DESCRIPTION:De ASCC heeft elke 2e donderdag een inloopmiddag in Amstelveen Zuid\, bij het MOC (Maatschappelijk Ontmoetings Centrum)\, Buurtkamer KKP\, aan de Lindenlaan 75\,1185 LC Amstelveen.\nLeden kunnen ook daar langskomen om te worden geholpen met hun vragen over computers\, smartphones en tablets. Ook mensen die nog geen lid zijn\, zijn welkom. Zij kunnen zich direct inschrijven als lid.
URL:https://www.ascc.nl/wp/event/inloop-amstelveen-lindenlaan-buurtkamerkkp-6/
LOCATION:MOC\, Lindenlaan 75\, Amstelveen\, 1185 LC
END:VEVENT
BEGIN:VEVENT
DTSTART;TZID=Europe/Amsterdam:20260724T093000
DTEND;TZID=Europe/Amsterdam:20260724T110000
DTSTAMP:20260421T043603
CREATED:20260417T152929Z
LAST-MODIFIED:20260417T152929Z
UID:18469-1784885400-1784890800@www.ascc.nl
SUMMARY:Inloop Amstelveen Westwijk
DESCRIPTION:De ASCC heeft iedere week een inloopspreekuur in Amstelveen Westwijk voor leden\, die dan langs kunnen komen om te worden geholpen met hun vragen over computers\, smartphones en tablets. Ook mensen die nog geen lid zijn\, zijn welkom. Zij kunnen zich direct inschrijven als lid.
URL:https://www.ascc.nl/wp/event/inloop-amstelveen-westwijk-87/
LOCATION:Wijkcentrum Westend\, Westwijkplein 3\, Amstelveen\, 1187 LS
END:VEVENT
BEGIN:VEVENT
DTSTART;TZID=Europe/Amsterdam:20260813T140000
DTEND;TZID=Europe/Amsterdam:20260813T160000
DTSTAMP:20260421T043603
CREATED:20260417T153228Z
LAST-MODIFIED:20260417T153228Z
UID:18483-1786629600-1786636800@www.ascc.nl
SUMMARY:Inloop Amstelveen Lindenlaan BuurtkamerKKP
DESCRIPTION:De ASCC heeft elke 2e donderdag een inloopmiddag in Amstelveen Zuid\, bij het MOC (Maatschappelijk Ontmoetings Centrum)\, Buurtkamer KKP\, aan de Lindenlaan 75\,1185 LC Amstelveen.\nLeden kunnen ook daar langskomen om te worden geholpen met hun vragen over computers\, smartphones en tablets. Ook mensen die nog geen lid zijn\, zijn welkom. Zij kunnen zich direct inschrijven als lid.
URL:https://www.ascc.nl/wp/event/inloop-amstelveen-lindenlaan-buurtkamerkkp-7/
LOCATION:MOC\, Lindenlaan 75\, Amstelveen\, 1185 LC
END:VEVENT
BEGIN:VEVENT
DTSTART;TZID=Europe/Amsterdam:20260828T093000
DTEND;TZID=Europe/Amsterdam:20260828T110000
DTSTAMP:20260421T043603
CREATED:20260417T153007Z
LAST-MODIFIED:20260417T153007Z
UID:18471-1787909400-1787914800@www.ascc.nl
SUMMARY:Inloop Amstelveen Westwijk
DESCRIPTION:De ASCC heeft iedere week een inloopspreekuur in Amstelveen Westwijk voor leden\, die dan langs kunnen komen om te worden geholpen met hun vragen over computers\, smartphones en tablets. Ook mensen die nog geen lid zijn\, zijn welkom. Zij kunnen zich direct inschrijven als lid.
URL:https://www.ascc.nl/wp/event/inloop-amstelveen-westwijk-88/
LOCATION:Wijkcentrum Westend\, Westwijkplein 3\, Amstelveen\, 1187 LS
END:VEVENT
END:VCALENDAR