BEGIN:VCALENDAR
VERSION:2.0
PRODID:-//ASCC - ECPv6.15.18//NONSGML v1.0//EN
CALSCALE:GREGORIAN
METHOD:PUBLISH
X-WR-CALNAME:ASCC
X-ORIGINAL-URL:https://www.ascc.nl/wp
X-WR-CALDESC:Evenementen voor ASCC
REFRESH-INTERVAL;VALUE=DURATION:PT1H
X-Robots-Tag:noindex
X-PUBLISHED-TTL:PT1H
BEGIN:VTIMEZONE
TZID:Europe/Amsterdam
BEGIN:DAYLIGHT
TZOFFSETFROM:+0100
TZOFFSETTO:+0200
TZNAME:CEST
DTSTART:20230326T010000
END:DAYLIGHT
BEGIN:STANDARD
TZOFFSETFROM:+0200
TZOFFSETTO:+0100
TZNAME:CET
DTSTART:20231029T010000
END:STANDARD
BEGIN:DAYLIGHT
TZOFFSETFROM:+0100
TZOFFSETTO:+0200
TZNAME:CEST
DTSTART:20240331T010000
END:DAYLIGHT
BEGIN:STANDARD
TZOFFSETFROM:+0200
TZOFFSETTO:+0100
TZNAME:CET
DTSTART:20241027T010000
END:STANDARD
BEGIN:DAYLIGHT
TZOFFSETFROM:+0100
TZOFFSETTO:+0200
TZNAME:CEST
DTSTART:20250330T010000
END:DAYLIGHT
BEGIN:STANDARD
TZOFFSETFROM:+0200
TZOFFSETTO:+0100
TZNAME:CET
DTSTART:20251026T010000
END:STANDARD
BEGIN:DAYLIGHT
TZOFFSETFROM:+0100
TZOFFSETTO:+0200
TZNAME:CEST
DTSTART:20260329T010000
END:DAYLIGHT
BEGIN:STANDARD
TZOFFSETFROM:+0200
TZOFFSETTO:+0100
TZNAME:CET
DTSTART:20261025T010000
END:STANDARD
END:VTIMEZONE
BEGIN:VEVENT
DTSTART;TZID=Europe/Amsterdam:20241120T140000
DTEND;TZID=Europe/Amsterdam:20241120T160000
DTSTAMP:20260421T020624
CREATED:20240925T125224Z
LAST-MODIFIED:20240925T125224Z
UID:15075-1732111200-1732118400@www.ascc.nl
SUMMARY:Clubmiddag Amstelveen Westwijk
DESCRIPTION:Iedere maand op de derde woensdag verzorgt de ASCC een clubmiddag voor de leden in het wijkcentrum Westend.\nHet programma vindt u op de clubmiddag pagina. \n  \n 
URL:https://www.ascc.nl/wp/event/clubmiddag-amstelveen-westwijk-4/
LOCATION:Wijkcentrum Westend\, Westwijkplein 3\, Amstelveen\, 1187 LS
END:VEVENT
BEGIN:VEVENT
DTSTART;TZID=Europe/Amsterdam:20241121T140000
DTEND;TZID=Europe/Amsterdam:20241121T160000
DTSTAMP:20260421T020624
CREATED:20240925T125144Z
LAST-MODIFIED:20240925T125144Z
UID:15073-1732197600-1732204800@www.ascc.nl
SUMMARY:Inloop Amstelveen Lindenlaan MOC
DESCRIPTION:De ASCC heeft elke 3e donderdag een  inloopmiddag  in Amstelveen Zuid\, bij het MOC (Maatschappelijk OntmoetingsCentrum) aan de Lindenlaan 75\,1185 LC Amstelveen 1185 LC Amstelveen.\nLeden kunnen ook daar langskomen om te worden geholpen met hun vragen over computers\, smartphones en tablets. Ook mensen die nog geen lid zijn\, zijn welkom. Zij kunnen zich direct inschrijven als lid.
URL:https://www.ascc.nl/wp/event/inloop-amstelveen-lindenlaan-moc-8/
LOCATION:MOC\, Lindenlaan 75\, Amstelveen\, 1185 LC
END:VEVENT
BEGIN:VEVENT
DTSTART;TZID=Europe/Amsterdam:20241122T093000
DTEND;TZID=Europe/Amsterdam:20241122T110000
DTSTAMP:20260421T020624
CREATED:20240925T125024Z
LAST-MODIFIED:20240925T125024Z
UID:15068-1732267800-1732273200@www.ascc.nl
SUMMARY:Inloop Amstelveen Westwijk
DESCRIPTION:De ASCC heeft iedere week een inloopspreekuur in Amstelveen Westwijk voor leden\, die dan langs kunnen komen om te worden geholpen met hun vragen over computers\, smartphones en tablets. Ook mensen die nog geen lid zijn\, zijn welkom. Zij kunnen zich direct inschrijven als lid.
URL:https://www.ascc.nl/wp/event/inloop-amstelveen-westwijk-28/
LOCATION:Wijkcentrum Westend\, Westwijkplein 3\, Amstelveen\, 1187 LS
END:VEVENT
BEGIN:VEVENT
DTSTART;TZID=Europe/Amsterdam:20241129T093000
DTEND;TZID=Europe/Amsterdam:20241129T110000
DTSTAMP:20260421T020624
CREATED:20240925T125051Z
LAST-MODIFIED:20240925T125106Z
UID:15070-1732872600-1732878000@www.ascc.nl
SUMMARY:Inloop Amstelveen Westwijk
DESCRIPTION:De ASCC heeft iedere week een inloopspreekuur in Amstelveen Westwijk voor leden\, die dan langs kunnen komen om te worden geholpen met hun vragen over computers\, smartphones en tablets. Ook mensen die nog geen lid zijn\, zijn welkom. Zij kunnen zich direct inschrijven als lid.
URL:https://www.ascc.nl/wp/event/inloop-amstelveen-westwijk-kopie-5/
LOCATION:Wijkcentrum Westend\, Westwijkplein 3\, Amstelveen\, 1187 LS
END:VEVENT
BEGIN:VEVENT
DTSTART;TZID=Europe/Amsterdam:20241204T130000
DTEND;TZID=Europe/Amsterdam:20241204T150000
DTSTAMP:20260421T020624
CREATED:20241115T103120Z
LAST-MODIFIED:20241115T103120Z
UID:15279-1733317200-1733324400@www.ascc.nl
SUMMARY:Inloop Uithoorn De Scheg
DESCRIPTION:Elke eerste woensdag van de maand houdt de ASCC inloopspreekuur in De Scheg in Uithoorn. Leden kunnen langskomen om te worden geholpen met hun vragen over computers\, smartphones en tablets. Ook mensen die nog geen lid zijn\, zijn welkom. Zij kunnen zich direct inschrijven als lid.
URL:https://www.ascc.nl/wp/event/inloop-uithoorn-de-scheg-8/
LOCATION:De Scheg\, Arthur van Schendellaan 100a\, Uithoorn\, NH\, 1422 LE
END:VEVENT
BEGIN:VEVENT
DTSTART;TZID=Europe/Amsterdam:20241206T093000
DTEND;TZID=Europe/Amsterdam:20241206T110000
DTSTAMP:20260421T020624
CREATED:20241115T102349Z
LAST-MODIFIED:20241115T102349Z
UID:15256-1733477400-1733482800@www.ascc.nl
SUMMARY:Inloop Amstelveen Westwijk
DESCRIPTION:De ASCC heeft iedere week een inloopspreekuur in Amstelveen Westwijk voor leden\, die dan langs kunnen komen om te worden geholpen met hun vragen over computers\, smartphones en tablets. Ook mensen die nog geen lid zijn\, zijn welkom. Zij kunnen zich direct inschrijven als lid.
URL:https://www.ascc.nl/wp/event/inloop-amstelveen-westwijk-29/
LOCATION:Wijkcentrum Westend\, Westwijkplein 3\, Amstelveen\, 1187 LS
END:VEVENT
BEGIN:VEVENT
DTSTART;TZID=Europe/Amsterdam:20241213T093000
DTEND;TZID=Europe/Amsterdam:20241213T110000
DTSTAMP:20260421T020624
CREATED:20241115T102415Z
LAST-MODIFIED:20241115T102415Z
UID:15258-1734082200-1734087600@www.ascc.nl
SUMMARY:Inloop Amstelveen Westwijk
DESCRIPTION:De ASCC heeft iedere week een inloopspreekuur in Amstelveen Westwijk voor leden\, die dan langs kunnen komen om te worden geholpen met hun vragen over computers\, smartphones en tablets. Ook mensen die nog geen lid zijn\, zijn welkom. Zij kunnen zich direct inschrijven als lid.
URL:https://www.ascc.nl/wp/event/inloop-amstelveen-westwijk-30/
LOCATION:Wijkcentrum Westend\, Westwijkplein 3\, Amstelveen\, 1187 LS
END:VEVENT
BEGIN:VEVENT
DTSTART;TZID=Europe/Amsterdam:20241218T140000
DTEND;TZID=Europe/Amsterdam:20241218T160000
DTSTAMP:20260421T020624
CREATED:20241115T102926Z
LAST-MODIFIED:20241115T102926Z
UID:15275-1734530400-1734537600@www.ascc.nl
SUMMARY:Clubmiddag Amstelveen Westwijk
DESCRIPTION:Iedere maand op de derde woensdag verzorgt de ASCC een clubmiddag voor de leden in het wijkcentrum Westend.\nHet programma vindt u op de clubmiddag pagina. \n  \n 
URL:https://www.ascc.nl/wp/event/clubmiddag-amstelveen-westwijk-8/
LOCATION:Wijkcentrum Westend\, Westwijkplein 3\, Amstelveen\, 1187 LS
END:VEVENT
BEGIN:VEVENT
DTSTART;TZID=Europe/Amsterdam:20241219T140000
DTEND;TZID=Europe/Amsterdam:20241219T160000
DTSTAMP:20260421T020624
CREATED:20241115T102806Z
LAST-MODIFIED:20241115T102806Z
UID:15271-1734616800-1734624000@www.ascc.nl
SUMMARY:Inloop Amstelveen Lindenlaan MOC
DESCRIPTION:De ASCC heeft elke 3e donderdag een  inloopmiddag  in Amstelveen Zuid\, bij het MOC (Maatschappelijk OntmoetingsCentrum) aan de Lindenlaan 75\,1185 LC Amstelveen 1185 LC Amstelveen.\nLeden kunnen ook daar langskomen om te worden geholpen met hun vragen over computers\, smartphones en tablets. Ook mensen die nog geen lid zijn\, zijn welkom. Zij kunnen zich direct inschrijven als lid.
URL:https://www.ascc.nl/wp/event/inloop-amstelveen-lindenlaan-moc-9/
LOCATION:MOC\, Lindenlaan 75\, Amstelveen\, 1185 LC
END:VEVENT
BEGIN:VEVENT
DTSTART;TZID=Europe/Amsterdam:20241220T093000
DTEND;TZID=Europe/Amsterdam:20241220T110000
DTSTAMP:20260421T020624
CREATED:20241115T102448Z
LAST-MODIFIED:20241115T102448Z
UID:15260-1734687000-1734692400@www.ascc.nl
SUMMARY:Inloop Amstelveen Westwijk
DESCRIPTION:De ASCC heeft iedere week een inloopspreekuur in Amstelveen Westwijk voor leden\, die dan langs kunnen komen om te worden geholpen met hun vragen over computers\, smartphones en tablets. Ook mensen die nog geen lid zijn\, zijn welkom. Zij kunnen zich direct inschrijven als lid.
URL:https://www.ascc.nl/wp/event/inloop-amstelveen-westwijk-31/
LOCATION:Wijkcentrum Westend\, Westwijkplein 3\, Amstelveen\, 1187 LS
END:VEVENT
BEGIN:VEVENT
DTSTART;TZID=Europe/Amsterdam:20250103T093000
DTEND;TZID=Europe/Amsterdam:20250103T110000
DTSTAMP:20260421T020624
CREATED:20241209T135823Z
LAST-MODIFIED:20241209T135823Z
UID:15346-1735896600-1735902000@www.ascc.nl
SUMMARY:Inloop Amstelveen Westwijk
DESCRIPTION:De ASCC heeft iedere week een inloopspreekuur in Amstelveen Westwijk voor leden\, die dan langs kunnen komen om te worden geholpen met hun vragen over computers\, smartphones en tablets. Ook mensen die nog geen lid zijn\, zijn welkom. Zij kunnen zich direct inschrijven als lid.
URL:https://www.ascc.nl/wp/event/inloop-amstelveen-westwijk-35/
LOCATION:Wijkcentrum Westend\, Westwijkplein 3\, Amstelveen\, 1187 LS
END:VEVENT
BEGIN:VEVENT
DTSTART;TZID=Europe/Amsterdam:20250110T093000
DTEND;TZID=Europe/Amsterdam:20250110T110000
DTSTAMP:20260421T020624
CREATED:20241115T102523Z
LAST-MODIFIED:20241115T102523Z
UID:15262-1736501400-1736506800@www.ascc.nl
SUMMARY:Inloop Amstelveen Westwijk
DESCRIPTION:De ASCC heeft iedere week een inloopspreekuur in Amstelveen Westwijk voor leden\, die dan langs kunnen komen om te worden geholpen met hun vragen over computers\, smartphones en tablets. Ook mensen die nog geen lid zijn\, zijn welkom. Zij kunnen zich direct inschrijven als lid.
URL:https://www.ascc.nl/wp/event/inloop-amstelveen-westwijk-32/
LOCATION:Wijkcentrum Westend\, Westwijkplein 3\, Amstelveen\, 1187 LS
END:VEVENT
BEGIN:VEVENT
DTSTART;TZID=Europe/Amsterdam:20250115T140000
DTEND;TZID=Europe/Amsterdam:20250115T160000
DTSTAMP:20260421T020624
CREATED:20241115T103005Z
LAST-MODIFIED:20241115T103020Z
UID:15277-1736949600-1736956800@www.ascc.nl
SUMMARY:Clubmiddag Amstelveen Westwijk
DESCRIPTION:Iedere maand op de derde woensdag verzorgt de ASCC een clubmiddag voor de leden in het wijkcentrum Westend.\nHet programma vindt u op de clubmiddag pagina. \n  \n 
URL:https://www.ascc.nl/wp/event/clubmiddag-amstelveen-westwijk-9/
LOCATION:Wijkcentrum Westend\, Westwijkplein 3\, Amstelveen\, 1187 LS
END:VEVENT
BEGIN:VEVENT
DTSTART;TZID=Europe/Amsterdam:20250116T140000
DTEND;TZID=Europe/Amsterdam:20250116T160000
DTSTAMP:20260421T020624
CREATED:20241115T102844Z
LAST-MODIFIED:20241115T102844Z
UID:15273-1737036000-1737043200@www.ascc.nl
SUMMARY:Inloop Amstelveen Lindenlaan MOC
DESCRIPTION:De ASCC heeft elke 3e donderdag een  inloopmiddag  in Amstelveen Zuid\, bij het MOC (Maatschappelijk OntmoetingsCentrum) aan de Lindenlaan 75\,1185 LC Amstelveen 1185 LC Amstelveen.\nLeden kunnen ook daar langskomen om te worden geholpen met hun vragen over computers\, smartphones en tablets. Ook mensen die nog geen lid zijn\, zijn welkom. Zij kunnen zich direct inschrijven als lid.
URL:https://www.ascc.nl/wp/event/inloop-amstelveen-lindenlaan-moc-10/
LOCATION:MOC\, Lindenlaan 75\, Amstelveen\, 1185 LC
END:VEVENT
BEGIN:VEVENT
DTSTART;TZID=Europe/Amsterdam:20250117T093000
DTEND;TZID=Europe/Amsterdam:20250117T110000
DTSTAMP:20260421T020624
CREATED:20241115T102602Z
LAST-MODIFIED:20241115T102624Z
UID:15264-1737106200-1737111600@www.ascc.nl
SUMMARY:Inloop Amstelveen Westwijk
DESCRIPTION:De ASCC heeft iedere week een inloopspreekuur in Amstelveen Westwijk voor leden\, die dan langs kunnen komen om te worden geholpen met hun vragen over computers\, smartphones en tablets. Ook mensen die nog geen lid zijn\, zijn welkom. Zij kunnen zich direct inschrijven als lid.
URL:https://www.ascc.nl/wp/event/inloop-amstelveen-westwijk-33/
LOCATION:Wijkcentrum Westend\, Westwijkplein 3\, Amstelveen\, 1187 LS
END:VEVENT
BEGIN:VEVENT
DTSTART;TZID=Europe/Amsterdam:20250124T093000
DTEND;TZID=Europe/Amsterdam:20250124T110000
DTSTAMP:20260421T020624
CREATED:20241115T102654Z
LAST-MODIFIED:20241115T102654Z
UID:15266-1737711000-1737716400@www.ascc.nl
SUMMARY:Inloop Amstelveen Westwijk
DESCRIPTION:De ASCC heeft iedere week een inloopspreekuur in Amstelveen Westwijk voor leden\, die dan langs kunnen komen om te worden geholpen met hun vragen over computers\, smartphones en tablets. Ook mensen die nog geen lid zijn\, zijn welkom. Zij kunnen zich direct inschrijven als lid.
URL:https://www.ascc.nl/wp/event/inloop-amstelveen-westwijk-34/
LOCATION:Wijkcentrum Westend\, Westwijkplein 3\, Amstelveen\, 1187 LS
END:VEVENT
BEGIN:VEVENT
DTSTART;TZID=Europe/Amsterdam:20250131T093000
DTEND;TZID=Europe/Amsterdam:20250131T110000
DTSTAMP:20260421T020624
CREATED:20241115T102721Z
LAST-MODIFIED:20241115T102731Z
UID:15268-1738315800-1738321200@www.ascc.nl
SUMMARY:Inloop Amstelveen Westwijk
DESCRIPTION:De ASCC heeft iedere week een inloopspreekuur in Amstelveen Westwijk voor leden\, die dan langs kunnen komen om te worden geholpen met hun vragen over computers\, smartphones en tablets. Ook mensen die nog geen lid zijn\, zijn welkom. Zij kunnen zich direct inschrijven als lid.
URL:https://www.ascc.nl/wp/event/inloop-amstelveen-westwijk-kopie-6/
LOCATION:Wijkcentrum Westend\, Westwijkplein 3\, Amstelveen\, 1187 LS
END:VEVENT
BEGIN:VEVENT
DTSTART;TZID=Europe/Amsterdam:20250205T130000
DTEND;TZID=Europe/Amsterdam:20250205T150000
DTSTAMP:20260421T020624
CREATED:20241211T154040Z
LAST-MODIFIED:20241211T154040Z
UID:15360-1738760400-1738767600@www.ascc.nl
SUMMARY:Inloop Uithoorn De Scheg
DESCRIPTION:Elke eerste woensdag van de maand houdt de ASCC inloopspreekuur in De Scheg in Uithoorn. Leden kunnen langskomen om te worden geholpen met hun vragen over computers\, smartphones en tablets. Ook mensen die nog geen lid zijn\, zijn welkom. Zij kunnen zich direct inschrijven als lid.
URL:https://www.ascc.nl/wp/event/inloop-uithoorn-de-scheg-9/
LOCATION:De Scheg\, Arthur van Schendellaan 100a\, Uithoorn\, NH\, 1422 LE
END:VEVENT
BEGIN:VEVENT
DTSTART;TZID=Europe/Amsterdam:20250207T093000
DTEND;TZID=Europe/Amsterdam:20250207T110000
DTSTAMP:20260421T020624
CREATED:20241211T153633Z
LAST-MODIFIED:20241211T153633Z
UID:15348-1738920600-1738926000@www.ascc.nl
SUMMARY:Inloop Amstelveen Westwijk
DESCRIPTION:De ASCC heeft iedere week een inloopspreekuur in Amstelveen Westwijk voor leden\, die dan langs kunnen komen om te worden geholpen met hun vragen over computers\, smartphones en tablets. Ook mensen die nog geen lid zijn\, zijn welkom. Zij kunnen zich direct inschrijven als lid.
URL:https://www.ascc.nl/wp/event/inloop-amstelveen-westwijk-36/
LOCATION:Wijkcentrum Westend\, Westwijkplein 3\, Amstelveen\, 1187 LS
END:VEVENT
BEGIN:VEVENT
DTSTART;TZID=Europe/Amsterdam:20250214T093000
DTEND;TZID=Europe/Amsterdam:20250214T110000
DTSTAMP:20260421T020624
CREATED:20241211T153703Z
LAST-MODIFIED:20241211T153703Z
UID:15350-1739525400-1739530800@www.ascc.nl
SUMMARY:Inloop Amstelveen Westwijk
DESCRIPTION:De ASCC heeft iedere week een inloopspreekuur in Amstelveen Westwijk voor leden\, die dan langs kunnen komen om te worden geholpen met hun vragen over computers\, smartphones en tablets. Ook mensen die nog geen lid zijn\, zijn welkom. Zij kunnen zich direct inschrijven als lid.
URL:https://www.ascc.nl/wp/event/inloop-amstelveen-westwijk-37/
LOCATION:Wijkcentrum Westend\, Westwijkplein 3\, Amstelveen\, 1187 LS
END:VEVENT
BEGIN:VEVENT
DTSTART;TZID=Europe/Amsterdam:20250219T140000
DTEND;TZID=Europe/Amsterdam:20250219T160000
DTSTAMP:20260421T020624
CREATED:20241211T153951Z
LAST-MODIFIED:20241211T153951Z
UID:15358-1739973600-1739980800@www.ascc.nl
SUMMARY:Clubmiddag Amstelveen Westwijk
DESCRIPTION:Iedere maand op de derde woensdag verzorgt de ASCC een clubmiddag voor de leden in het wijkcentrum Westend.\nHet programma vindt u op de clubmiddag pagina. \n  \n 
URL:https://www.ascc.nl/wp/event/clubmiddag-amstelveen-westwijk-10/
LOCATION:Wijkcentrum Westend\, Westwijkplein 3\, Amstelveen\, 1187 LS
END:VEVENT
BEGIN:VEVENT
DTSTART;TZID=Europe/Amsterdam:20250220T140000
DTEND;TZID=Europe/Amsterdam:20250220T160000
DTSTAMP:20260421T020624
CREATED:20241211T153852Z
LAST-MODIFIED:20241211T153852Z
UID:15356-1740060000-1740067200@www.ascc.nl
SUMMARY:Inloop Amstelveen Lindenlaan MOC
DESCRIPTION:De ASCC heeft elke 3e donderdag een  inloopmiddag  in Amstelveen Zuid\, bij het MOC (Maatschappelijk OntmoetingsCentrum) aan de Lindenlaan 75\,1185 LC Amstelveen 1185 LC Amstelveen.\nLeden kunnen ook daar langskomen om te worden geholpen met hun vragen over computers\, smartphones en tablets. Ook mensen die nog geen lid zijn\, zijn welkom. Zij kunnen zich direct inschrijven als lid.
URL:https://www.ascc.nl/wp/event/inloop-amstelveen-lindenlaan-moc-11/
LOCATION:MOC\, Lindenlaan 75\, Amstelveen\, 1185 LC
END:VEVENT
BEGIN:VEVENT
DTSTART;TZID=Europe/Amsterdam:20250221T093000
DTEND;TZID=Europe/Amsterdam:20250221T110000
DTSTAMP:20260421T020624
CREATED:20241211T153737Z
LAST-MODIFIED:20241211T153737Z
UID:15352-1740130200-1740135600@www.ascc.nl
SUMMARY:Inloop Amstelveen Westwijk
DESCRIPTION:De ASCC heeft iedere week een inloopspreekuur in Amstelveen Westwijk voor leden\, die dan langs kunnen komen om te worden geholpen met hun vragen over computers\, smartphones en tablets. Ook mensen die nog geen lid zijn\, zijn welkom. Zij kunnen zich direct inschrijven als lid.
URL:https://www.ascc.nl/wp/event/inloop-amstelveen-westwijk-38/
LOCATION:Wijkcentrum Westend\, Westwijkplein 3\, Amstelveen\, 1187 LS
END:VEVENT
BEGIN:VEVENT
DTSTART;TZID=Europe/Amsterdam:20250228T093000
DTEND;TZID=Europe/Amsterdam:20250228T110000
DTSTAMP:20260421T020624
CREATED:20241211T153808Z
LAST-MODIFIED:20241211T153808Z
UID:15354-1740735000-1740740400@www.ascc.nl
SUMMARY:Inloop Amstelveen Westwijk
DESCRIPTION:De ASCC heeft iedere week een inloopspreekuur in Amstelveen Westwijk voor leden\, die dan langs kunnen komen om te worden geholpen met hun vragen over computers\, smartphones en tablets. Ook mensen die nog geen lid zijn\, zijn welkom. Zij kunnen zich direct inschrijven als lid.
URL:https://www.ascc.nl/wp/event/inloop-amstelveen-westwijk-39/
LOCATION:Wijkcentrum Westend\, Westwijkplein 3\, Amstelveen\, 1187 LS
END:VEVENT
BEGIN:VEVENT
DTSTART;TZID=Europe/Amsterdam:20250305T130000
DTEND;TZID=Europe/Amsterdam:20250305T150000
DTSTAMP:20260421T020624
CREATED:20250116T175924Z
LAST-MODIFIED:20250116T175924Z
UID:15501-1741179600-1741186800@www.ascc.nl
SUMMARY:Inloop Uithoorn De Scheg
DESCRIPTION:Elke eerste woensdag van de maand houdt de ASCC inloopspreekuur in De Scheg in Uithoorn. Leden kunnen langskomen om te worden geholpen met hun vragen over computers\, smartphones en tablets. Ook mensen die nog geen lid zijn\, zijn welkom. Zij kunnen zich direct inschrijven als lid.
URL:https://www.ascc.nl/wp/event/inloop-uithoorn-de-scheg-10/
LOCATION:De Scheg\, Arthur van Schendellaan 100a\, Uithoorn\, NH\, 1422 LE
END:VEVENT
BEGIN:VEVENT
DTSTART;TZID=Europe/Amsterdam:20250307T093000
DTEND;TZID=Europe/Amsterdam:20250307T110000
DTSTAMP:20260421T020624
CREATED:20250116T175510Z
LAST-MODIFIED:20250116T175510Z
UID:15489-1741339800-1741345200@www.ascc.nl
SUMMARY:Inloop Amstelveen Westwijk
DESCRIPTION:De ASCC heeft iedere week een inloopspreekuur in Amstelveen Westwijk voor leden\, die dan langs kunnen komen om te worden geholpen met hun vragen over computers\, smartphones en tablets. Ook mensen die nog geen lid zijn\, zijn welkom. Zij kunnen zich direct inschrijven als lid.
URL:https://www.ascc.nl/wp/event/inloop-amstelveen-westwijk-40/
LOCATION:Wijkcentrum Westend\, Westwijkplein 3\, Amstelveen\, 1187 LS
END:VEVENT
BEGIN:VEVENT
DTSTART;TZID=Europe/Amsterdam:20250314T093000
DTEND;TZID=Europe/Amsterdam:20250314T110000
DTSTAMP:20260421T020624
CREATED:20250116T175555Z
LAST-MODIFIED:20250116T175555Z
UID:15491-1741944600-1741950000@www.ascc.nl
SUMMARY:Inloop Amstelveen Westwijk
DESCRIPTION:De ASCC heeft iedere week een inloopspreekuur in Amstelveen Westwijk voor leden\, die dan langs kunnen komen om te worden geholpen met hun vragen over computers\, smartphones en tablets. Ook mensen die nog geen lid zijn\, zijn welkom. Zij kunnen zich direct inschrijven als lid.
URL:https://www.ascc.nl/wp/event/inloop-amstelveen-westwijk-41/
LOCATION:Wijkcentrum Westend\, Westwijkplein 3\, Amstelveen\, 1187 LS
END:VEVENT
BEGIN:VEVENT
DTSTART;TZID=Europe/Amsterdam:20250319T140000
DTEND;TZID=Europe/Amsterdam:20250319T160000
DTSTAMP:20260421T020624
CREATED:20250116T175843Z
LAST-MODIFIED:20250116T175843Z
UID:15499-1742392800-1742400000@www.ascc.nl
SUMMARY:Clubmiddag Amstelveen Westwijk
DESCRIPTION:Iedere maand op de derde woensdag verzorgt de ASCC een clubmiddag voor de leden in het wijkcentrum Westend.\nHet programma vindt u op de clubmiddag pagina. \n  \n 
URL:https://www.ascc.nl/wp/event/clubmiddag-amstelveen-westwijk-11/
LOCATION:Wijkcentrum Westend\, Westwijkplein 3\, Amstelveen\, 1187 LS
END:VEVENT
BEGIN:VEVENT
DTSTART;TZID=Europe/Amsterdam:20250320T140000
DTEND;TZID=Europe/Amsterdam:20250320T160000
DTSTAMP:20260421T020624
CREATED:20250116T175757Z
LAST-MODIFIED:20250116T175757Z
UID:15497-1742479200-1742486400@www.ascc.nl
SUMMARY:Inloop Amstelveen Lindenlaan MOC
DESCRIPTION:De ASCC heeft elke 3e donderdag een  inloopmiddag  in Amstelveen Zuid\, bij het MOC (Maatschappelijk OntmoetingsCentrum) aan de Lindenlaan 75\,1185 LC Amstelveen 1185 LC Amstelveen.\nLeden kunnen ook daar langskomen om te worden geholpen met hun vragen over computers\, smartphones en tablets. Ook mensen die nog geen lid zijn\, zijn welkom. Zij kunnen zich direct inschrijven als lid.
URL:https://www.ascc.nl/wp/event/inloop-amstelveen-lindenlaan-moc-12/
LOCATION:MOC\, Lindenlaan 75\, Amstelveen\, 1185 LC
END:VEVENT
BEGIN:VEVENT
DTSTART;TZID=Europe/Amsterdam:20250321T093000
DTEND;TZID=Europe/Amsterdam:20250321T110000
DTSTAMP:20260421T020624
CREATED:20250116T175632Z
LAST-MODIFIED:20250116T175632Z
UID:15493-1742549400-1742554800@www.ascc.nl
SUMMARY:Inloop Amstelveen Westwijk
DESCRIPTION:De ASCC heeft iedere week een inloopspreekuur in Amstelveen Westwijk voor leden\, die dan langs kunnen komen om te worden geholpen met hun vragen over computers\, smartphones en tablets. Ook mensen die nog geen lid zijn\, zijn welkom. Zij kunnen zich direct inschrijven als lid.
URL:https://www.ascc.nl/wp/event/inloop-amstelveen-westwijk-42/
LOCATION:Wijkcentrum Westend\, Westwijkplein 3\, Amstelveen\, 1187 LS
END:VEVENT
END:VCALENDAR